BEGIN:VCALENDAR
VERSION:2.0
PRODID:-//ANJE FORMAÇÃO - ECPv6.2.9//NONSGML v1.0//EN
CALSCALE:GREGORIAN
METHOD:PUBLISH
X-WR-CALNAME:ANJE FORMAÇÃO
X-ORIGINAL-URL:https://anjeformacao.pt
X-WR-CALDESC:Events for ANJE FORMAÇÃO
REFRESH-INTERVAL;VALUE=DURATION:PT1H
X-Robots-Tag:noindex
X-PUBLISHED-TTL:PT1H
BEGIN:VTIMEZONE
TZID:Europe/Paris
BEGIN:DAYLIGHT
TZOFFSETFROM:+0100
TZOFFSETTO:+0200
TZNAME:CEST
DTSTART:20260329T010000
END:DAYLIGHT
BEGIN:STANDARD
TZOFFSETFROM:+0200
TZOFFSETTO:+0100
TZNAME:CET
DTSTART:20261025T010000
END:STANDARD
END:VTIMEZONE
BEGIN:VEVENT
DTSTART;TZID=Europe/Paris:20260420T090000
DTEND;TZID=Europe/Paris:20260420T100000
DTSTAMP:20260420T013227
CREATED:20260226T165333Z
LAST-MODIFIED:20260227T125637Z
UID:10005779-1776675600-1776679200@anjeformacao.pt
SUMMARY:Conduzir ao Fecho da Venda | Online
DESCRIPTION:
URL:https://anjeformacao.pt/calendario-curso/conduzir-ao-fecho-da-venda-online/
ATTACH;FMTTYPE=image/jpeg:https://anjeformacao.pt/wp-content/uploads/Conduzir-ao-fecho-de-venda-Online.jpg
END:VEVENT
BEGIN:VEVENT
DTSTART;TZID=Europe/Paris:20260420T090000
DTEND;TZID=Europe/Paris:20260420T100000
DTSTAMP:20260420T013227
CREATED:20260331T093522Z
LAST-MODIFIED:20260414T092421Z
UID:10005812-1776675600-1776679200@anjeformacao.pt
SUMMARY:Como elaborar um Plano de Negócios |  Formação Assíncrona
DESCRIPTION:
URL:https://anjeformacao.pt/calendario-curso/como-elaborar-um-plano-de-negocios-formacao-assincrona-3/
ATTACH;FMTTYPE=image/png:https://anjeformacao.pt/wp-content/uploads/Como-elaborar-um-plano-de-negocio-_-E-Learning-1.png
END:VEVENT
END:VCALENDAR