BEGIN:VCALENDAR
VERSION:2.0
PRODID:-//ANJE FORMAÇÃO - ECPv6.2.9//NONSGML v1.0//EN
CALSCALE:GREGORIAN
METHOD:PUBLISH
X-WR-CALNAME:ANJE FORMAÇÃO
X-ORIGINAL-URL:https://anjeformacao.pt
X-WR-CALDESC:Events for ANJE FORMAÇÃO
REFRESH-INTERVAL;VALUE=DURATION:PT1H
X-Robots-Tag:noindex
X-PUBLISHED-TTL:PT1H
BEGIN:VTIMEZONE
TZID:Europe/Paris
BEGIN:DAYLIGHT
TZOFFSETFROM:+0100
TZOFFSETTO:+0200
TZNAME:CEST
DTSTART:20260329T010000
END:DAYLIGHT
BEGIN:STANDARD
TZOFFSETFROM:+0200
TZOFFSETTO:+0100
TZNAME:CET
DTSTART:20261025T010000
END:STANDARD
END:VTIMEZONE
BEGIN:VEVENT
DTSTART;TZID=Europe/Paris:20260421T090000
DTEND;TZID=Europe/Paris:20260421T100000
DTSTAMP:20260421T013545
CREATED:20260331T094302Z
LAST-MODIFIED:20260414T092533Z
UID:10005815-1776762000-1776765600@anjeformacao.pt
SUMMARY:Direito Laboral para Gestores e Empreendedores | Formação Assíncrona
DESCRIPTION:
URL:https://anjeformacao.pt/calendario-curso/direito-laboral-para-gestores-e-empreendedores-formacao-assincrona-2/
ATTACH;FMTTYPE=image/png:https://anjeformacao.pt/wp-content/uploads/Direito-Laboral-para-Gestores-e-Empreendedores-_-E-Learning.png
END:VEVENT
BEGIN:VEVENT
DTSTART;TZID=Europe/Paris:20260421T090000
DTEND;TZID=Europe/Paris:20260421T100000
DTSTAMP:20260421T013545
CREATED:20260414T093125Z
LAST-MODIFIED:20260415T001507Z
UID:10005841-1776762000-1776765600@anjeformacao.pt
SUMMARY:RGPD para Gestores e Empreendedores |  Formação Assíncrona
DESCRIPTION:
URL:https://anjeformacao.pt/calendario-curso/rgpd-para-gestores-e-empreendedores-formacao-assincrona-6/
ATTACH;FMTTYPE=image/png:https://anjeformacao.pt/wp-content/uploads/RGPD-para-Gestores-e-Empreendedores-_-E-Learning.png
END:VEVENT
END:VCALENDAR