BEGIN:VCALENDAR
VERSION:2.0
PRODID:-//ANJE FORMAÇÃO - ECPv6.2.9//NONSGML v1.0//EN
CALSCALE:GREGORIAN
METHOD:PUBLISH
X-ORIGINAL-URL:https://anjeformacao.pt
X-WR-CALDESC:Events for ANJE FORMAÇÃO
REFRESH-INTERVAL;VALUE=DURATION:PT1H
X-Robots-Tag:noindex
X-PUBLISHED-TTL:PT1H
BEGIN:VTIMEZONE
TZID:Europe/Paris
BEGIN:DAYLIGHT
TZOFFSETFROM:+0100
TZOFFSETTO:+0200
TZNAME:CEST
DTSTART:20260329T010000
END:DAYLIGHT
BEGIN:STANDARD
TZOFFSETFROM:+0200
TZOFFSETTO:+0100
TZNAME:CET
DTSTART:20261025T010000
END:STANDARD
END:VTIMEZONE
BEGIN:VEVENT
DTSTART;TZID=Europe/Paris:20260518T090000
DTEND;TZID=Europe/Paris:20260518T100000
DTSTAMP:20260425T034907
CREATED:20260414T092358Z
LAST-MODIFIED:20260421T001508Z
UID:10005835-1779094800-1779098400@anjeformacao.pt
SUMMARY:Como elaborar um Plano de Negócios |  Formação Assíncrona
DESCRIPTION:
URL:https://anjeformacao.pt/calendario-curso/como-elaborar-um-plano-de-negocios-formacao-assincrona-5/
ATTACH;FMTTYPE=image/png:https://anjeformacao.pt/wp-content/uploads/Como-elaborar-um-plano-de-negocio-_-E-Learning-1.png
END:VEVENT
BEGIN:VEVENT
DTSTART;TZID=Europe/Paris:20260519T090000
DTEND;TZID=Europe/Paris:20260519T100000
DTSTAMP:20260425T034907
CREATED:20260414T092524Z
LAST-MODIFIED:20260422T001509Z
UID:10005837-1779181200-1779184800@anjeformacao.pt
SUMMARY:Direito Laboral para Gestores e Empreendedores | Formação Assíncrona
DESCRIPTION:
URL:https://anjeformacao.pt/calendario-curso/direito-laboral-para-gestores-e-empreendedores-formacao-assincrona/
ATTACH;FMTTYPE=image/png:https://anjeformacao.pt/wp-content/uploads/Direito-Laboral-para-Gestores-e-Empreendedores-_-E-Learning.png
END:VEVENT
BEGIN:VEVENT
DTSTART;TZID=Europe/Paris:20260520T090000
DTEND;TZID=Europe/Paris:20260520T100000
DTSTAMP:20260425T034907
CREATED:20260316T122035Z
LAST-MODIFIED:20260316T122046Z
UID:10005795-1779267600-1779271200@anjeformacao.pt
SUMMARY:Inteligência Artificial: muito além do ChatGPT | Online
DESCRIPTION:
URL:https://anjeformacao.pt/calendario-curso/inteligencia-artificial-muito-alem-do-chatgpt-online/
ATTACH;FMTTYPE=image/jpeg:https://anjeformacao.pt/wp-content/uploads/Inteligencia-Artificial-muito-alem-do-ChatGPT.jpg
END:VEVENT
BEGIN:VEVENT
DTSTART;TZID=Europe/Paris:20260521T090000
DTEND;TZID=Europe/Paris:20260521T100000
DTSTAMP:20260425T034907
CREATED:20260331T092110Z
LAST-MODIFIED:20260422T001506Z
UID:10005806-1779354000-1779357600@anjeformacao.pt
SUMMARY:RGPD para Gestores e Empreendedores |  Formação Assíncrona
DESCRIPTION:
URL:https://anjeformacao.pt/calendario-curso/rgpd-para-gestores-e-empreendedores-formacao-assincrona-3/
ATTACH;FMTTYPE=image/png:https://anjeformacao.pt/wp-content/uploads/RGPD-para-Gestores-e-Empreendedores-_-E-Learning.png
END:VEVENT
BEGIN:VEVENT
DTSTART;TZID=Europe/Paris:20260525T090000
DTEND;TZID=Europe/Paris:20260525T100000
DTSTAMP:20260425T034907
CREATED:20260414T092358Z
LAST-MODIFIED:20260421T001508Z
UID:10005836-1779699600-1779703200@anjeformacao.pt
SUMMARY:Como elaborar um Plano de Negócios |  Formação Assíncrona
DESCRIPTION:
URL:https://anjeformacao.pt/calendario-curso/como-elaborar-um-plano-de-negocios-formacao-assincrona-6/
ATTACH;FMTTYPE=image/png:https://anjeformacao.pt/wp-content/uploads/Como-elaborar-um-plano-de-negocio-_-E-Learning-1.png
END:VEVENT
BEGIN:VEVENT
DTSTART;TZID=Europe/Paris:20260526T090000
DTEND;TZID=Europe/Paris:20260526T100000
DTSTAMP:20260425T034907
CREATED:20260414T092831Z
LAST-MODIFIED:20260415T001510Z
UID:10005839-1779786000-1779789600@anjeformacao.pt
SUMMARY:Direito das Sociedades – Constituição de Empresas | Formação Assíncrona
DESCRIPTION:
URL:https://anjeformacao.pt/calendario-curso/direito-das-sociedades-constituicao-de-empresas-formacao-assincrona-4/
ATTACH;FMTTYPE=image/png:https://anjeformacao.pt/wp-content/uploads/Direito-das-Sociedades-_-E-learning.png
END:VEVENT
BEGIN:VEVENT
DTSTART;TZID=Europe/Paris:20260527T090000
DTEND;TZID=Europe/Paris:20260527T100000
DTSTAMP:20260425T034907
CREATED:20260127T115316Z
LAST-MODIFIED:20260401T144817Z
UID:10005757-1779872400-1779876000@anjeformacao.pt
SUMMARY:Gestão de correio eletrónico e pesquisa de informação na web - UFCD 0693 | Norte - Pessoas 2030
DESCRIPTION:
URL:https://anjeformacao.pt/calendario-curso/gestao-de-correio-eletronico-e-pesquisa-de-informacao-na-web-ufcd-0693-norte-pessoas-2030/
ATTACH;FMTTYPE=image/jpeg:https://anjeformacao.pt/wp-content/uploads/Gestao-de-correio-eletronico-e-pesquisa-de-informacao-na-web-UFCD-0693-_-Norte-PESSOAS-2030-1.jpg
END:VEVENT
BEGIN:VEVENT
DTSTART;TZID=Europe/Paris:20260528T090000
DTEND;TZID=Europe/Paris:20260528T100000
DTSTAMP:20260425T034907
CREATED:20260304T160531Z
LAST-MODIFIED:20260401T150754Z
UID:10005791-1779958800-1779962400@anjeformacao.pt
SUMMARY:Executar operações de controlo de tesouraria - UC 02777 | Norte - Pessoas 2030
DESCRIPTION:
URL:https://anjeformacao.pt/calendario-curso/gerir-plataformas-de-crm-uc-02760-norte-pessoas-2030-copia/
ATTACH;FMTTYPE=image/jpeg:https://anjeformacao.pt/wp-content/uploads/Executar-operacoes-de-controlo-de-tesouraria-UC02777-_-Norte-Formacao-Modular-Certificada-1.jpg
END:VEVENT
BEGIN:VEVENT
DTSTART;TZID=Europe/Paris:20260528T090000
DTEND;TZID=Europe/Paris:20260528T100000
DTSTAMP:20260425T034907
CREATED:20260331T092110Z
LAST-MODIFIED:20260422T001506Z
UID:10005807-1779958800-1779962400@anjeformacao.pt
SUMMARY:RGPD para Gestores e Empreendedores |  Formação Assíncrona
DESCRIPTION:
URL:https://anjeformacao.pt/calendario-curso/rgpd-para-gestores-e-empreendedores-formacao-assincrona-4/
ATTACH;FMTTYPE=image/png:https://anjeformacao.pt/wp-content/uploads/RGPD-para-Gestores-e-Empreendedores-_-E-Learning.png
END:VEVENT
BEGIN:VEVENT
DTSTART;TZID=Europe/Paris:20260625T090000
DTEND;TZID=Europe/Paris:20260625T100000
DTSTAMP:20260425T034907
CREATED:20260127T121311Z
LAST-MODIFIED:20260401T144749Z
UID:10005759-1782378000-1782381600@anjeformacao.pt
SUMMARY:Gerir plataformas de CRM - UC 02760  | Norte - Pessoas 2030
DESCRIPTION:
URL:https://anjeformacao.pt/calendario-curso/conceber-e-implementar-a-estrategia-de-marketing-digital-uc-00277-norte-pessoas-2030-copia-2/
ATTACH;FMTTYPE=image/jpeg:https://anjeformacao.pt/wp-content/uploads/Gerir-plataformas-de-CRM-_-Norte-UC02760-Formacao-Modular-Certificada-1.jpg
END:VEVENT
BEGIN:VEVENT
DTSTART;TZID=Europe/Paris:20260625T090000
DTEND;TZID=Europe/Paris:20260625T100000
DTSTAMP:20260425T034907
CREATED:20260127T125917Z
LAST-MODIFIED:20260401T145329Z
UID:10005760-1782378000-1782381600@anjeformacao.pt
SUMMARY:Plano de negócio – criação de micronegócios - UFCD 7854 | Norte - Pessoas 2030
DESCRIPTION:
URL:https://anjeformacao.pt/calendario-curso/plano-de-negocio-criacao-de-micronegocios-ufcd-7854-norte-pessoas-2030/
ATTACH;FMTTYPE=image/jpeg:https://anjeformacao.pt/wp-content/uploads/Plano-de-negocio-–-criacao-de-micronegocios-–-UFCD-7854-_-Norte-PESSOAS-2030-1.jpg
END:VEVENT
BEGIN:VEVENT
DTSTART;TZID=Europe/Paris:20260922T090000
DTEND;TZID=Europe/Paris:20260922T100000
DTSTAMP:20260425T034907
CREATED:20260324T111436Z
LAST-MODIFIED:20260324T112020Z
UID:10005802-1790067600-1790071200@anjeformacao.pt
SUMMARY:Curso Felicidade nas Organizações: cultura\, segurança psicológica e bem-estar sustentável  | Online
DESCRIPTION:
URL:https://anjeformacao.pt/calendario-curso/lideranca-anti-burnout-energia-limites-e-clareza-na-gestao-de-pessoas-online-copia/
ATTACH;FMTTYPE=image/jpeg:https://anjeformacao.pt/wp-content/uploads/Lideranca-Anti-Burnout-energia-limites-e-clareza-na-gestao-de-pessoas-Online-1.jpg
END:VEVENT
BEGIN:VEVENT
DTSTART;TZID=Europe/Paris:20260922T090000
DTEND;TZID=Europe/Paris:20260922T100000
DTSTAMP:20260425T034907
CREATED:20260325T151811Z
LAST-MODIFIED:20260331T095933Z
UID:10005803-1790067600-1790071200@anjeformacao.pt
SUMMARY:Felicidade nas Organizações: cultura\, segurança psicológica e bem-estar sustentável  | Online
DESCRIPTION:
URL:https://anjeformacao.pt/calendario-curso/lideranca-anti-burnout-energia-limites-e-clareza-na-gestao-de-pessoas-online-copia-2/
ATTACH;FMTTYPE=image/jpeg:https://anjeformacao.pt/wp-content/uploads/Felicidade-nas-Organizacoes-cultura-seguranca-psicologica-e-bem-estar-sustentavel-Online.jpg
END:VEVENT
BEGIN:VEVENT
DTSTART;TZID=Europe/Paris:20261013T090000
DTEND;TZID=Europe/Paris:20261013T100000
DTSTAMP:20260425T034907
CREATED:20260409T164808Z
LAST-MODIFIED:20260409T164816Z
UID:10005820-1791882000-1791885600@anjeformacao.pt
SUMMARY:Liderança Anti-Burnout: energia\, limites e clareza na gestão de pessoas  | Online
DESCRIPTION:
URL:https://anjeformacao.pt/calendario-curso/lideranca-anti-burnout-energia-limites-e-clareza-na-gestao-de-pessoas-online/
ATTACH;FMTTYPE=image/jpeg:https://anjeformacao.pt/wp-content/uploads/Lideranca-Anti-Burnout-energia-limites-e-clareza-na-gestao-de-pessoas-Online-1.jpg
END:VEVENT
END:VCALENDAR